BEGIN:VCALENDAR
VERSION:2.0
PRODID:-//The Pears Cumbria School of Medicine - ECPv6.15.20//NONSGML v1.0//EN
CALSCALE:GREGORIAN
METHOD:PUBLISH
X-WR-CALNAME:The Pears Cumbria School of Medicine
X-ORIGINAL-URL:https://cumbriamed.ac.uk
X-WR-CALDESC:Events for The Pears Cumbria School of Medicine
REFRESH-INTERVAL;VALUE=DURATION:PT1H
X-Robots-Tag:noindex
X-PUBLISHED-TTL:PT1H
BEGIN:VTIMEZONE
TZID:Europe/London
BEGIN:DAYLIGHT
TZOFFSETFROM:+0000
TZOFFSETTO:+0100
TZNAME:BST
DTSTART:20230326T010000
END:DAYLIGHT
BEGIN:STANDARD
TZOFFSETFROM:+0100
TZOFFSETTO:+0000
TZNAME:GMT
DTSTART:20231029T010000
END:STANDARD
BEGIN:DAYLIGHT
TZOFFSETFROM:+0000
TZOFFSETTO:+0100
TZNAME:BST
DTSTART:20240331T010000
END:DAYLIGHT
BEGIN:STANDARD
TZOFFSETFROM:+0100
TZOFFSETTO:+0000
TZNAME:GMT
DTSTART:20241027T010000
END:STANDARD
BEGIN:DAYLIGHT
TZOFFSETFROM:+0000
TZOFFSETTO:+0100
TZNAME:BST
DTSTART:20250330T010000
END:DAYLIGHT
BEGIN:STANDARD
TZOFFSETFROM:+0100
TZOFFSETTO:+0000
TZNAME:GMT
DTSTART:20251026T010000
END:STANDARD
END:VTIMEZONE
BEGIN:VEVENT
DTSTART;TZID=Europe/London:20240529T170000
DTEND;TZID=Europe/London:20240529T183000
DTSTAMP:20260424T235303
CREATED:20240508T155431Z
LAST-MODIFIED:20240521T151523Z
UID:546-1717002000-1717007400@cumbriamed.ac.uk
SUMMARY:Virtual Event\, 29th May 2024
DESCRIPTION:Join us for a virtual session\, to learn more about the home of the Pears Cumbria School of Medicine\, based on our Fusehill Street campus. This event will help answer your key questions about studying with us\, whether it be about the application process\, financial support or curriculum. Our academics will be on hand to answer any questions you may have about your course of interest. \nOur Fusehill Street campus is home to the Institute of Education\, Arts and Society\, Institute of Health\, Institute for Business\, Industry and Leadership\, Institute of Science and Environment\, and our brand new The Pears Cumbria School of Medicine from 2025. \nDon’t miss out on this opportunity to take a closer look at Pears Cumbria School of Medicine. Register now and embark on your journey towards a fulfilling career in medicine. \nBook your place here. \nWe will send joining details and instructions closer to the time.
URL:https://cumbriamed.ac.uk/event/virtual-event-29th-may-2024/
LOCATION:Online Event
END:VEVENT
BEGIN:VEVENT
DTSTART;TZID=Europe/London:20240424T170000
DTEND;TZID=Europe/London:20240424T190000
DTSTAMP:20260424T235303
CREATED:20240328T152811Z
LAST-MODIFIED:20240328T152811Z
UID:452-1713978000-1713985200@cumbriamed.ac.uk
SUMMARY:Virtual Event\, 24th April 2024
DESCRIPTION:Join us for a virtual open day\, to learn more about the home of the Pears Cumbria School of Medicine\, based on our Fusehill Street campus. This event will help answer your key questions about studying with us\, whether it be about the application process\, financial support or curriculum.  \nOur Fusehill Street campus is home to the Institute of Education\, Arts and Society\, Institute of Health\, Institute for Business\, Industry and Leadership\, Institute of Science and Environment\, and our brand new The Pears Cumbria School of Medicine from 2025. \nDuring the event\, our expert academic staff will present talks where you can get a real flavour of the course and see how passionate and enthusiastic our tutors are about their specialist areas. Our academics will be on hand to answer any questions you may have about your course of interest. \nDon’t miss out on this opportunity to take a closer look at Pears Cumbria School of Medicine. Register now and embark on your journey towards a fulfilling career in medicine. \nWe will send joining details and instructions closer to the time.
URL:https://cumbriamed.ac.uk/event/virtual-event-24-april/
LOCATION:Online Event
END:VEVENT
BEGIN:VEVENT
DTSTART;TZID=Europe/London:20240306T170000
DTEND;TZID=Europe/London:20240306T180000
DTSTAMP:20260424T235303
CREATED:20240305T151021Z
LAST-MODIFIED:20240305T151114Z
UID:404-1709744400-1709748000@cumbriamed.ac.uk
SUMMARY:Virtual Event
DESCRIPTION:Join us for an exciting and informative virtual event at Pears Cumbria School of Medicine. This is your chance to explore our esteemed institution and learn more about our cutting-edge medical programs. \nOn Wednesday 6 March 2024\, starting at 17:00\, we will provide a comprehensive overview of our curriculum and application journey. You will have the opportunity to interact with academics and school leaders\, ask questions\, and gain valuable insights into our programme. \nDon’t miss out on this opportunity to take a closer look at Pears Cumbria School of Medicine. Register now and embark on your journey towards a fulfilling career in medicine. \nWe will send joining details and instructions closer to the time.
URL:https://cumbriamed.ac.uk/event/virtual-event/
LOCATION:Online Event
END:VEVENT
END:VCALENDAR